BEGIN:VCALENDAR
VERSION:2.0
PRODID:-//Area 23 | Southern Indiana - ECPv6.15.20//NONSGML v1.0//EN
CALSCALE:GREGORIAN
METHOD:PUBLISH
X-ORIGINAL-URL:https://area23aa.org
X-WR-CALDESC:Events for Area 23 | Southern Indiana
REFRESH-INTERVAL;VALUE=DURATION:PT1H
X-Robots-Tag:noindex
X-PUBLISHED-TTL:PT1H
BEGIN:VTIMEZONE
TZID:America/Indiana/Indianapolis
BEGIN:DAYLIGHT
TZOFFSETFROM:-0500
TZOFFSETTO:-0400
TZNAME:EDT
DTSTART:20250309T070000
END:DAYLIGHT
BEGIN:STANDARD
TZOFFSETFROM:-0400
TZOFFSETTO:-0500
TZNAME:EST
DTSTART:20251102T060000
END:STANDARD
BEGIN:DAYLIGHT
TZOFFSETFROM:-0500
TZOFFSETTO:-0400
TZNAME:EDT
DTSTART:20260308T070000
END:DAYLIGHT
BEGIN:STANDARD
TZOFFSETFROM:-0400
TZOFFSETTO:-0500
TZNAME:EST
DTSTART:20261101T060000
END:STANDARD
BEGIN:DAYLIGHT
TZOFFSETFROM:-0500
TZOFFSETTO:-0400
TZNAME:EDT
DTSTART:20270314T070000
END:DAYLIGHT
BEGIN:STANDARD
TZOFFSETFROM:-0400
TZOFFSETTO:-0500
TZNAME:EST
DTSTART:20271107T060000
END:STANDARD
END:VTIMEZONE
BEGIN:VEVENT
DTSTART;TZID=America/Indiana/Indianapolis:20260517T090000
DTEND;TZID=America/Indiana/Indianapolis:20260517T160000
DTSTAMP:20260424T055908
CREATED:20260104T133950Z
LAST-MODIFIED:20260411T113502Z
UID:33273-1779008400-1779033600@area23aa.org
SUMMARY:Area 23 Assembly
DESCRIPTION:Area 23 Assembly\nWhen:\nMay 17\, 2026 \nWhere:\nCommunity Building\n4920 N. State Hwy 3\nNorth Vernon\, IN 47265 \nHosted by:\nDistrict 6 \n*In person attendance encouraged; for those unable to attend please join us via Zoom \n2026 Area 23  May Assembly Agenda \nJoin Zoom Meeting\nZoom Link\nMeeting ID: 542 300 4095\nPasscode: area23
URL:https://area23aa.org/event/area-23-assembly-6
CATEGORIES:Area Assembly
END:VEVENT
END:VCALENDAR