BEGIN:VCALENDAR
VERSION:2.0
PRODID:-//Area 23 | Southern Indiana - ECPv6.15.20//NONSGML v1.0//EN
CALSCALE:GREGORIAN
METHOD:PUBLISH
X-WR-CALNAME:Area 23 | Southern Indiana
X-ORIGINAL-URL:https://area23aa.org
X-WR-CALDESC:Events for Area 23 | Southern Indiana
REFRESH-INTERVAL;VALUE=DURATION:PT1H
X-Robots-Tag:noindex
X-PUBLISHED-TTL:PT1H
BEGIN:VTIMEZONE
TZID:America/Indiana/Indianapolis
BEGIN:DAYLIGHT
TZOFFSETFROM:-0500
TZOFFSETTO:-0400
TZNAME:EDT
DTSTART:20250309T070000
END:DAYLIGHT
BEGIN:STANDARD
TZOFFSETFROM:-0400
TZOFFSETTO:-0500
TZNAME:EST
DTSTART:20251102T060000
END:STANDARD
BEGIN:DAYLIGHT
TZOFFSETFROM:-0500
TZOFFSETTO:-0400
TZNAME:EDT
DTSTART:20260308T070000
END:DAYLIGHT
BEGIN:STANDARD
TZOFFSETFROM:-0400
TZOFFSETTO:-0500
TZNAME:EST
DTSTART:20261101T060000
END:STANDARD
BEGIN:DAYLIGHT
TZOFFSETFROM:-0500
TZOFFSETTO:-0400
TZNAME:EDT
DTSTART:20270314T070000
END:DAYLIGHT
BEGIN:STANDARD
TZOFFSETFROM:-0400
TZOFFSETTO:-0500
TZNAME:EST
DTSTART:20271107T060000
END:STANDARD
END:VTIMEZONE
BEGIN:VEVENT
DTSTART;TZID=America/Indiana/Indianapolis:20261115T090000
DTEND;TZID=America/Indiana/Indianapolis:20261115T150000
DTSTAMP:20260424T102925
CREATED:20260105T005705Z
LAST-MODIFIED:20260404T125800Z
UID:33309-1794733200-1794754800@area23aa.org
SUMMARY:Area 23 Assembly
DESCRIPTION:Area 23 Assembly\n \nWhen:\nNovember 15\, 2026 @ 9am – 3pm \nWhere:\nAbe Martin Lodge\n1405 IN-476 W.\nNashville\, IN 47448 \n*In person attendance encouraged; for those unable to attend please join us via Zoom \nJoin Zoom Meeting\nZoom Link\nMeeting ID: 542 300 4095\nPasscode: area23
URL:https://area23aa.org/event/area-23-assembly-8
CATEGORIES:Area Assembly
END:VEVENT
BEGIN:VEVENT
DTSTART;TZID=America/Indiana/Indianapolis:20261115T190000
DTEND;TZID=America/Indiana/Indianapolis:20261115T200000
DTSTAMP:20260424T102925
CREATED:20260120T180537Z
LAST-MODIFIED:20260404T143720Z
UID:33687-1794769200-1794772800@area23aa.org
SUMMARY:Area Committee Chairs/Area Chair Virtual Meeting
DESCRIPTION:Area Committee Chairs/Area Chair Virtual Meeting\nMeets monthly \nJoin Zoom Meeting \nZoom Link \nMeeting ID: 518 235 9057\nPasscode: area23 \nHosted by: Area Chair – Alan Griffin
URL:https://area23aa.org/event/area-committee-chairs-area-chair-virtual-meeting-11
CATEGORIES:DCMs or Committee Chairs Virtual Meeting
END:VEVENT
END:VCALENDAR