BEGIN:VCALENDAR
VERSION:2.0
PRODID:-//Area 23 | Southern Indiana - ECPv6.15.20//NONSGML v1.0//EN
CALSCALE:GREGORIAN
METHOD:PUBLISH
X-WR-CALNAME:Area 23 | Southern Indiana
X-ORIGINAL-URL:https://area23aa.org
X-WR-CALDESC:Events for Area 23 | Southern Indiana
REFRESH-INTERVAL;VALUE=DURATION:PT1H
X-Robots-Tag:noindex
X-PUBLISHED-TTL:PT1H
BEGIN:VTIMEZONE
TZID:America/Indiana/Indianapolis
BEGIN:DAYLIGHT
TZOFFSETFROM:-0500
TZOFFSETTO:-0400
TZNAME:EDT
DTSTART:20250309T070000
END:DAYLIGHT
BEGIN:STANDARD
TZOFFSETFROM:-0400
TZOFFSETTO:-0500
TZNAME:EST
DTSTART:20251102T060000
END:STANDARD
BEGIN:DAYLIGHT
TZOFFSETFROM:-0500
TZOFFSETTO:-0400
TZNAME:EDT
DTSTART:20260308T070000
END:DAYLIGHT
BEGIN:STANDARD
TZOFFSETFROM:-0400
TZOFFSETTO:-0500
TZNAME:EST
DTSTART:20261101T060000
END:STANDARD
BEGIN:DAYLIGHT
TZOFFSETFROM:-0500
TZOFFSETTO:-0400
TZNAME:EDT
DTSTART:20270314T070000
END:DAYLIGHT
BEGIN:STANDARD
TZOFFSETFROM:-0400
TZOFFSETTO:-0500
TZNAME:EST
DTSTART:20271107T060000
END:STANDARD
END:VTIMEZONE
BEGIN:VEVENT
DTSTART;TZID=America/Indiana/Indianapolis:20260314T130000
DTEND;TZID=America/Indiana/Indianapolis:20260314T160000
DTSTAMP:20260425T082745
CREATED:20260228T175136Z
LAST-MODIFIED:20260228T175758Z
UID:35431-1773493200-1773504000@area23aa.org
SUMMARY:General Service Representative Workshop
DESCRIPTION:General Service Representative Workshop\n \nWhen:\nMarch 14\, 2026 1pm – 4pm \nWhere:\nVigo County Public Library\n12 Points Branch\n2200 N. 13th St.\nTerre Haute\, IN 47804 \nHosted by: District 18 B&C \nFlyer \n 
URL:https://area23aa.org/event/general-service-representative-workshop-3
CATEGORIES:GSR Training
END:VEVENT
BEGIN:VEVENT
DTSTART;TZID=America/Indiana/Indianapolis:20260315T130000
DTEND;TZID=America/Indiana/Indianapolis:20260315T160000
DTSTAMP:20260425T082745
CREATED:20260228T174326Z
LAST-MODIFIED:20260228T174326Z
UID:35417-1773579600-1773590400@area23aa.org
SUMMARY:General Service Representative Workshop
DESCRIPTION:General Service Representative Workshop\n \nWhen:\nMarch 15\, 2026 1pm – 4pm \nWhere:\nRising Hall B&B & Wedding and Event Center\n10474 US-40\nCoatesville\, IN 46121 \nHosted by: District 18A \nFlyer
URL:https://area23aa.org/event/general-service-representative-workshop-2
CATEGORIES:GSR Training
END:VEVENT
END:VCALENDAR