BEGIN:VCALENDAR
VERSION:2.0
PRODID:-//Area 23 | Southern Indiana - ECPv6.15.20//NONSGML v1.0//EN
CALSCALE:GREGORIAN
METHOD:PUBLISH
X-WR-CALNAME:Area 23 | Southern Indiana
X-ORIGINAL-URL:https://area23aa.org
X-WR-CALDESC:Events for Area 23 | Southern Indiana
REFRESH-INTERVAL;VALUE=DURATION:PT1H
X-Robots-Tag:noindex
X-PUBLISHED-TTL:PT1H
BEGIN:VTIMEZONE
TZID:America/Indiana/Indianapolis
BEGIN:DAYLIGHT
TZOFFSETFROM:-0500
TZOFFSETTO:-0400
TZNAME:EDT
DTSTART:20250309T070000
END:DAYLIGHT
BEGIN:STANDARD
TZOFFSETFROM:-0400
TZOFFSETTO:-0500
TZNAME:EST
DTSTART:20251102T060000
END:STANDARD
BEGIN:DAYLIGHT
TZOFFSETFROM:-0500
TZOFFSETTO:-0400
TZNAME:EDT
DTSTART:20260308T070000
END:DAYLIGHT
BEGIN:STANDARD
TZOFFSETFROM:-0400
TZOFFSETTO:-0500
TZNAME:EST
DTSTART:20261101T060000
END:STANDARD
BEGIN:DAYLIGHT
TZOFFSETFROM:-0500
TZOFFSETTO:-0400
TZNAME:EDT
DTSTART:20270314T070000
END:DAYLIGHT
BEGIN:STANDARD
TZOFFSETFROM:-0400
TZOFFSETTO:-0500
TZNAME:EST
DTSTART:20271107T060000
END:STANDARD
END:VTIMEZONE
BEGIN:VEVENT
DTSTART;VALUE=DATE:20260213
DTEND;VALUE=DATE:20260216
DTSTAMP:20260420T092110
CREATED:20260101T223542Z
LAST-MODIFIED:20260105T180333Z
UID:33188-1770940800-1771199999@area23aa.org
SUMMARY:Conference of Delegates Past and Present
DESCRIPTION:Conference of Delegates Past and Present\nWhen:\nFebruary 13-15\, 2026 \nWhere:\nHilton Garden Inn\n1300 Cinema Way\nBenton Harbor\, MI 49022
URL:https://area23aa.org/event/conference-of-delegates-past-and-present-2
CATEGORIES:Other Area 23 events
END:VEVENT
BEGIN:VEVENT
DTSTART;TZID=America/Indiana/Indianapolis:20260221T120000
DTEND;TZID=America/Indiana/Indianapolis:20260221T150000
DTSTAMP:20260420T092110
CREATED:20260101T225227Z
LAST-MODIFIED:20260104T130032Z
UID:33191-1771675200-1771686000@area23aa.org
SUMMARY:Virtual DCM Workshop
DESCRIPTION:Virtual DCM Workshop\nJoin Zoom Meeting \nhttps://us02web.zoom.us/j/3392068165?pwd=yEWHDuNYRsB85U9YaBvZffbo1E7XSn.1&omn=81980612157 \nMeeting ID: 339 206 8165\nPasscode: area23 \n 
URL:https://area23aa.org/event/virtual-dcm-workshop
CATEGORIES:Other Area 23 events
END:VEVENT
BEGIN:VEVENT
DTSTART;TZID=America/Indiana/Indianapolis:20260228T100000
DTEND;TZID=America/Indiana/Indianapolis:20260228T110000
DTSTAMP:20260420T092110
CREATED:20260103T185818Z
LAST-MODIFIED:20260209T111450Z
UID:33228-1772272800-1772276400@area23aa.org
SUMMARY:Area 23 Virtual Agenda Meeting
DESCRIPTION:Area 23 Virtual Agenda Meeting\nWhen\n\nSaturday\, February 28\, 2026\nJoin Zoom Meeting \nhttps://us02web.zoom.us/j/5182359057?pwd=TX58SF8KMLQ3nOiaxWYQO4aRq1BYtW.1 \nMeeting ID: 518 235 9057\nPasscode: area23
URL:https://area23aa.org/event/virtual-agenda-meeting
CATEGORIES:Other Area 23 events
END:VEVENT
END:VCALENDAR