BEGIN:VCALENDAR
VERSION:2.0
PRODID:-//Area 23 | Southern Indiana - ECPv6.15.20//NONSGML v1.0//EN
CALSCALE:GREGORIAN
METHOD:PUBLISH
X-ORIGINAL-URL:https://area23aa.org
X-WR-CALDESC:Events for Area 23 | Southern Indiana
REFRESH-INTERVAL;VALUE=DURATION:PT1H
X-Robots-Tag:noindex
X-PUBLISHED-TTL:PT1H
BEGIN:VTIMEZONE
TZID:America/Indiana/Indianapolis
BEGIN:DAYLIGHT
TZOFFSETFROM:-0500
TZOFFSETTO:-0400
TZNAME:EDT
DTSTART:20250309T070000
END:DAYLIGHT
BEGIN:STANDARD
TZOFFSETFROM:-0400
TZOFFSETTO:-0500
TZNAME:EST
DTSTART:20251102T060000
END:STANDARD
BEGIN:DAYLIGHT
TZOFFSETFROM:-0500
TZOFFSETTO:-0400
TZNAME:EDT
DTSTART:20260308T070000
END:DAYLIGHT
BEGIN:STANDARD
TZOFFSETFROM:-0400
TZOFFSETTO:-0500
TZNAME:EST
DTSTART:20261101T060000
END:STANDARD
BEGIN:DAYLIGHT
TZOFFSETFROM:-0500
TZOFFSETTO:-0400
TZNAME:EDT
DTSTART:20270314T070000
END:DAYLIGHT
BEGIN:STANDARD
TZOFFSETFROM:-0400
TZOFFSETTO:-0500
TZNAME:EST
DTSTART:20271107T060000
END:STANDARD
END:VTIMEZONE
BEGIN:VEVENT
DTSTART;TZID=America/Indiana/Indianapolis:20260117T120000
DTEND;TZID=America/Indiana/Indianapolis:20260117T200000
DTSTAMP:20260421T064627
CREATED:20251123T185515Z
LAST-MODIFIED:20251123T190752Z
UID:32427-1768651200-1768680000@area23aa.org
SUMMARY:Special Online Forum for Deaf A.A. members
DESCRIPTION:Saturday\, January 17\, 2026\n12 p.m. – 8 p.m. (EST) \nOnline GSO event facilitated by Deaf A.A. members\nA Language and Cultural Special Forum for Deaf A.A. Members who use American Sign Language (ASL)\, Langue des Signes Québécoise (LSQ) & Lengua de Señas Mexicana (LSM) \n\nWatch the Video Flyer (Grapevine YouTube)\nRegister\n\nWhy attend?\n\nFellowship with Deaf A.A. members throughout the U.S./Canada.\nShare your ideas on how we can improve carrying the message to still suffering Deaf alcoholics.\nLearn how the general service structure works.\n\nWho is invited?\n\nAll A.A. members are welcome to attend.\nPlease note that the Q&A/discussion participation will primarily be dedicated to Deaf members\, as this forum is to provide a platform for the Deaf members to ask questions and to communicate with the General Service Board and the General Service Office.\n\nFor inquiries or concerns about registering for the Special Deaf Forum\, please contact Sharon V. at Vasquezs@aa.org.
URL:https://area23aa.org/event/special-online-forum-for-deaf-aa-members-2026
CATEGORIES:Outside Area 23 or joint events
ATTACH;FMTTYPE=image/jpeg:https://area23aa.org/wp-content/uploads/2025/11/aa-sign-lang.jpg
END:VEVENT
END:VCALENDAR