BEGIN:VCALENDAR
VERSION:2.0
PRODID:-//Area 23 | Southern Indiana - ECPv6.15.20//NONSGML v1.0//EN
CALSCALE:GREGORIAN
METHOD:PUBLISH
X-WR-CALNAME:Area 23 | Southern Indiana
X-ORIGINAL-URL:https://area23aa.org
X-WR-CALDESC:Events for Area 23 | Southern Indiana
REFRESH-INTERVAL;VALUE=DURATION:PT1H
X-Robots-Tag:noindex
X-PUBLISHED-TTL:PT1H
BEGIN:VTIMEZONE
TZID:America/Indiana/Indianapolis
BEGIN:DAYLIGHT
TZOFFSETFROM:-0500
TZOFFSETTO:-0400
TZNAME:EDT
DTSTART:20250309T070000
END:DAYLIGHT
BEGIN:STANDARD
TZOFFSETFROM:-0400
TZOFFSETTO:-0500
TZNAME:EST
DTSTART:20251102T060000
END:STANDARD
BEGIN:DAYLIGHT
TZOFFSETFROM:-0500
TZOFFSETTO:-0400
TZNAME:EDT
DTSTART:20260308T070000
END:DAYLIGHT
BEGIN:STANDARD
TZOFFSETFROM:-0400
TZOFFSETTO:-0500
TZNAME:EST
DTSTART:20261101T060000
END:STANDARD
BEGIN:DAYLIGHT
TZOFFSETFROM:-0500
TZOFFSETTO:-0400
TZNAME:EDT
DTSTART:20270314T070000
END:DAYLIGHT
BEGIN:STANDARD
TZOFFSETFROM:-0400
TZOFFSETTO:-0500
TZNAME:EST
DTSTART:20271107T060000
END:STANDARD
END:VTIMEZONE
BEGIN:VEVENT
DTSTART;TZID=America/Indiana/Indianapolis:20260702T190000
DTEND;TZID=America/Indiana/Indianapolis:20260702T200000
DTSTAMP:20260422T074251
CREATED:20260409T235333Z
LAST-MODIFIED:20260409T235333Z
UID:37109-1783018800-1783022400@area23aa.org
SUMMARY:Service Manual Study Group
DESCRIPTION:7:00 pm – 8:00 pm EDT\n\n\nJoin fellow Area 23 Trusted Servants as we share our experience and start or deepen our knowledge of the AA Service Manual! All our welcome\, we look forward to sharing and learning together. \nThursday 7pm to 8pm \nJoin Zoom Meeting:\nhttps://us02web.zoom.us/j/5182359057?pwd=TX58SF8KMLQ3nOiaxWYQO4aRq1BYtW.1&omn=89389401552 \nMeeting ID: 518 235 9057\nPasscode: area23
URL:https://area23aa.org/event/service-manual-study-group-24
CATEGORIES:Other Area 23 events
END:VEVENT
BEGIN:VEVENT
DTSTART;TZID=America/Indiana/Indianapolis:20260704T110000
DTEND;TZID=America/Indiana/Indianapolis:20260704T120000
DTSTAMP:20260422T074251
CREATED:20260306T005130Z
LAST-MODIFIED:20260315T130301Z
UID:35743-1783162800-1783166400@area23aa.org
SUMMARY:Area 23 Literature Committee Meeting
DESCRIPTION:Area 23 Literature Committee Meeting\nMeets the 1st Saturday of every month \nJoin Zoom Meeting \nZoom Link \nMeeting ID: 518 235 9057\nPasscode: area23 \nHosted by: Bill Etherton
URL:https://area23aa.org/event/area-23-literature-committee-meeting-4
CATEGORIES:Other Area 23 events
END:VEVENT
BEGIN:VEVENT
DTSTART;TZID=America/Indiana/Indianapolis:20260709T190000
DTEND;TZID=America/Indiana/Indianapolis:20260709T200000
DTSTAMP:20260422T074251
CREATED:20260409T235419Z
LAST-MODIFIED:20260409T235419Z
UID:37108-1783623600-1783627200@area23aa.org
SUMMARY:Service Manual Study Group
DESCRIPTION:7:00 pm – 8:00 pm EDT\n\n\nJoin fellow Area 23 Trusted Servants as we share our experience and start or deepen our knowledge of the AA Service Manual! All our welcome\, we look forward to sharing and learning together.\n\nThursday 7pm to 8pm\n\nJoin Zoom Meeting:\nhttps://us02web.zoom.us/j/5182359057?pwd=TX58SF8KMLQ3nOiaxWYQO4aRq1BYtW.1&omn=89389401552\n\nMeeting ID: 518 235 9057\nPasscode: area23
URL:https://area23aa.org/event/service-manual-study-group-25
CATEGORIES:Other Area 23 events
END:VEVENT
BEGIN:VEVENT
DTSTART;TZID=America/Indiana/Indianapolis:20260709T200000
DTEND;TZID=America/Indiana/Indianapolis:20260709T210000
DTSTAMP:20260422T074251
CREATED:20260118T120742Z
LAST-MODIFIED:20260317T002925Z
UID:33645-1783627200-1783630800@area23aa.org
SUMMARY:DCM/Area Delegate Virtual Meeting
DESCRIPTION:DCM/Area Delegate Virtual Meeting \nMeets every month @ 8pm \nJoin Zoom Meeting \nZoom Link \nMeeting ID: 847 5806 1052\nPasscode: area23 \nHosted by: Area Delegate – Todd K. \n 
URL:https://area23aa.org/event/dcm-area-delegate-virtual-meeting-7
CATEGORIES:DCMs or Committee Chairs Virtual Meeting
END:VEVENT
BEGIN:VEVENT
DTSTART;TZID=America/Indiana/Indianapolis:20260711T100000
DTEND;TZID=America/Indiana/Indianapolis:20260711T110000
DTSTAMP:20260422T074251
CREATED:20260105T002459Z
LAST-MODIFIED:20260403T233650Z
UID:33296-1783764000-1783767600@area23aa.org
SUMMARY:Area 23 Virtual Agenda Meeting
DESCRIPTION:Area 23 Virtual Agenda Meeting\nJoin Zoom Meeting: \nhttps://us02web.zoom.us/j/5182359057?pwd=TX58SF8KMLQ3nOiaxWYQO4aRq1BYtW.1 \nMeeting ID: 518 235 9057\nPasscode: area23 \nHosted by: Alan Griffin \n 
URL:https://area23aa.org/event/area-23-virtual-agenda-meeting
CATEGORIES:Other Area 23 events
END:VEVENT
BEGIN:VEVENT
DTSTART;TZID=America/Indiana/Indianapolis:20260712T093000
DTEND;TZID=America/Indiana/Indianapolis:20260712T093000
DTSTAMP:20260422T074251
CREATED:20260209T104130Z
LAST-MODIFIED:20260211T144501Z
UID:34464-1783848600-1783848600@area23aa.org
SUMMARY:Indianapolis Intergroup Meeting
DESCRIPTION:Indianapolis Intergroup Meeting\nMeets the 2nd Sunday of each month \nWhen\nSunday\, July 12\, 2026 @ 9:30am \nLocation\nTBD \n  \n*Subscribe to “Sheets of Sobriety”
URL:https://area23aa.org/event/indianapolis-intergroup-meeting-6
CATEGORIES:District and other AA Events
END:VEVENT
BEGIN:VEVENT
DTSTART;TZID=America/Indiana/Indianapolis:20260716T080000
DTEND;TZID=America/Indiana/Indianapolis:20260716T170000
DTSTAMP:20260422T074251
CREATED:20260409T235503Z
LAST-MODIFIED:20260409T235503Z
UID:37112-1784188800-1784221200@area23aa.org
SUMMARY:Service Manual Study Group
DESCRIPTION:7:00 pm – 8:00 pm EDT\n\n\nJoin fellow Area 23 Trusted Servants as we share our experience and start or deepen our knowledge of the AA Service Manual! All our welcome\, we look forward to sharing and learning together.\n\nThursday 7pm to 8pm\n\nJoin Zoom Meeting:\nhttps://us02web.zoom.us/j/5182359057?pwd=TX58SF8KMLQ3nOiaxWYQO4aRq1BYtW.1&omn=89389401552\n\nMeeting ID: 518 235 9057\nPasscode: area23
URL:https://area23aa.org/event/service-manual-study-group-26
CATEGORIES:Other Area 23 events
END:VEVENT
BEGIN:VEVENT
DTSTART;TZID=America/Indiana/Indianapolis:20260718T133000
DTEND;TZID=America/Indiana/Indianapolis:20260718T143000
DTSTAMP:20260422T074251
CREATED:20260415T070841Z
LAST-MODIFIED:20260415T070841Z
UID:37296-1784381400-1784385000@area23aa.org
SUMMARY:Area 23 Corrections Committee Virtual Meeting
DESCRIPTION:Area 23 Corrections Committee Virtual Meeting\nWhen:\nSaturday\, July 18\, 2026 @ 1:30pm \nJoin Zoom Meeting \nZoom Link \nMeeting ID: 831 5132 8042\nPasscode: area23\n\nHosted by: Nicholas S.
URL:https://area23aa.org/event/area-23-corrections-committee-virtual-meeting-3
CATEGORIES:DCMs or Committee Chairs Virtual Meeting
END:VEVENT
BEGIN:VEVENT
DTSTART;TZID=America/Indiana/Indianapolis:20260720T190000
DTEND;TZID=America/Indiana/Indianapolis:20260720T200000
DTSTAMP:20260422T074251
CREATED:20260118T121219Z
LAST-MODIFIED:20260404T143236Z
UID:33647-1784574000-1784577600@area23aa.org
SUMMARY:Area Committee Chairs/Area Chair Virtual Meeting
DESCRIPTION:Area Committee Chairs/Area Chair Virtual Meeting\nMeets monthly \nJoin Zoom Meeting \nZoom Link\nMeeting ID: 518 235 9057\nPasscode: area23 \nHosted by: Area Chair – Alan Griffin
URL:https://area23aa.org/event/area-committee-chairs-area-chair-virtual-meeting-7
CATEGORIES:DCMs or Committee Chairs Virtual Meeting
END:VEVENT
BEGIN:VEVENT
DTSTART;TZID=America/Indiana/Indianapolis:20260723T190000
DTEND;TZID=America/Indiana/Indianapolis:20260723T200000
DTSTAMP:20260422T074251
CREATED:20260409T235611Z
LAST-MODIFIED:20260409T235611Z
UID:37114-1784833200-1784836800@area23aa.org
SUMMARY:Service Manual Study Group
DESCRIPTION:7:00 pm – 8:00 pm EDT\n\n\nJoin fellow Area 23 Trusted Servants as we share our experience and start or deepen our knowledge of the AA Service Manual! All our welcome\, we look forward to sharing and learning together.\n\nThursday 7pm to 8pm\n\nJoin Zoom Meeting:\nhttps://us02web.zoom.us/j/5182359057?pwd=TX58SF8KMLQ3nOiaxWYQO4aRq1BYtW.1&omn=89389401552\n\nMeeting ID: 518 235 9057\nPasscode: area23
URL:https://area23aa.org/event/service-manual-study-group-27
CATEGORIES:Other Area 23 events
END:VEVENT
BEGIN:VEVENT
DTSTART;TZID=America/Indiana/Indianapolis:20260730T190000
DTEND;TZID=America/Indiana/Indianapolis:20260730T200000
DTSTAMP:20260422T074251
CREATED:20260409T235703Z
LAST-MODIFIED:20260409T235703Z
UID:37116-1785438000-1785441600@area23aa.org
SUMMARY:Service Manual Study Group
DESCRIPTION:7:00 pm – 8:00 pm EDT\n\n\nJoin fellow Area 23 Trusted Servants as we share our experience and start or deepen our knowledge of the AA Service Manual! All our welcome\, we look forward to sharing and learning together.\n\nThursday 7pm to 8pm\n\nJoin Zoom Meeting:\nhttps://us02web.zoom.us/j/5182359057?pwd=TX58SF8KMLQ3nOiaxWYQO4aRq1BYtW.1&omn=89389401552\n\nMeeting ID: 518 235 9057\nPasscode: area23
URL:https://area23aa.org/event/service-manual-study-group-28
CATEGORIES:Other Area 23 events
END:VEVENT
END:VCALENDAR