BEGIN:VCALENDAR
VERSION:2.0
PRODID:-//Area 23 | Southern Indiana - ECPv6.15.20//NONSGML v1.0//EN
CALSCALE:GREGORIAN
METHOD:PUBLISH
X-WR-CALNAME:Area 23 | Southern Indiana
X-ORIGINAL-URL:https://area23aa.org
X-WR-CALDESC:Events for Area 23 | Southern Indiana
REFRESH-INTERVAL;VALUE=DURATION:PT1H
X-Robots-Tag:noindex
X-PUBLISHED-TTL:PT1H
BEGIN:VTIMEZONE
TZID:America/Indiana/Indianapolis
BEGIN:DAYLIGHT
TZOFFSETFROM:-0500
TZOFFSETTO:-0400
TZNAME:EDT
DTSTART:20250309T070000
END:DAYLIGHT
BEGIN:STANDARD
TZOFFSETFROM:-0400
TZOFFSETTO:-0500
TZNAME:EST
DTSTART:20251102T060000
END:STANDARD
BEGIN:DAYLIGHT
TZOFFSETFROM:-0500
TZOFFSETTO:-0400
TZNAME:EDT
DTSTART:20260308T070000
END:DAYLIGHT
BEGIN:STANDARD
TZOFFSETFROM:-0400
TZOFFSETTO:-0500
TZNAME:EST
DTSTART:20261101T060000
END:STANDARD
BEGIN:DAYLIGHT
TZOFFSETFROM:-0500
TZOFFSETTO:-0400
TZNAME:EDT
DTSTART:20270314T070000
END:DAYLIGHT
BEGIN:STANDARD
TZOFFSETFROM:-0400
TZOFFSETTO:-0500
TZNAME:EST
DTSTART:20271107T060000
END:STANDARD
END:VTIMEZONE
BEGIN:VEVENT
DTSTART;TZID=America/Indiana/Indianapolis:20260905T110000
DTEND;TZID=America/Indiana/Indianapolis:20260905T120000
DTSTAMP:20260422T074814
CREATED:20260306T005412Z
LAST-MODIFIED:20260315T130505Z
UID:35748-1788606000-1788609600@area23aa.org
SUMMARY:Area 23 Literature Committee Meeting
DESCRIPTION:Area 23 Literature Committee Meeting\nMeets the 1st Saturday of every month \nJoin Zoom Meeting \nZoom Link \nMeeting ID: 518 235 9057\nPasscode: area23 \nHosted by: Bill Etherton
URL:https://area23aa.org/event/area-23-literature-committee-meeting-6
CATEGORIES:Other Area 23 events
END:VEVENT
BEGIN:VEVENT
DTSTART;TZID=America/Indiana/Indianapolis:20260910T200000
DTEND;TZID=America/Indiana/Indianapolis:20260910T210000
DTSTAMP:20260422T074814
CREATED:20260118T122932Z
LAST-MODIFIED:20260317T003107Z
UID:33655-1789070400-1789074000@area23aa.org
SUMMARY:DCM/Area Delegate Virtual Meeting
DESCRIPTION:DCM/Area Delegate Virtual Meeting\nMeets every month @ 8pm \nJoin Zoom Meeting \nZoom Link \nMeeting ID: 847 5806 1052\nPasscode: area23 \nHosted by: Area Delegate – Todd K.
URL:https://area23aa.org/event/dcm-area-delegate-virtual-meeting-10
CATEGORIES:DCMs or Committee Chairs Virtual Meeting
END:VEVENT
BEGIN:VEVENT
DTSTART;TZID=America/Indiana/Indianapolis:20260913T093000
DTEND;TZID=America/Indiana/Indianapolis:20260913T093000
DTSTAMP:20260422T074814
CREATED:20260209T104759Z
LAST-MODIFIED:20260209T104848Z
UID:34470-1789291800-1789291800@area23aa.org
SUMMARY:Indianapolis Intergroup Meeting
DESCRIPTION:Indianapolis Intergroup Meeting\nMeets the 2nd Sunday of each month \nWhen\nSunday\, September 13\, 2026 @ 9:30am \nLocation\n2320 S. Tibbs Avenue\nIndianapolis\, IN 46241\nShelter House (Party Barn) \nMap \n  \n*Subscribe to “Sheets of Sobriety”
URL:https://area23aa.org/event/indianapolis-intergroup-meeting-8
CATEGORIES:District and other AA Events
END:VEVENT
BEGIN:VEVENT
DTSTART;TZID=America/Indiana/Indianapolis:20260919T133000
DTEND;TZID=America/Indiana/Indianapolis:20260919T143000
DTSTAMP:20260422T074814
CREATED:20260415T071302Z
LAST-MODIFIED:20260415T071302Z
UID:37301-1789824600-1789828200@area23aa.org
SUMMARY:Area 23 Corrections Committee Virtual Meeting
DESCRIPTION:Area 23 Corrections Committee Virtual Meeting\nWhen:\nSaturday\, September 19\, 2026 @ 1:30pm \nJoin Zoom Meeting \nZoom Link \nMeeting ID: 831 5132 8042\nPasscode: area23\n\nHosted by: Nicholas S.
URL:https://area23aa.org/event/area-23-corrections-committee-virtual-meeting-5
CATEGORIES:DCMs or Committee Chairs Virtual Meeting
END:VEVENT
BEGIN:VEVENT
DTSTART;TZID=America/Indiana/Indianapolis:20260921T190000
DTEND;TZID=America/Indiana/Indianapolis:20260921T200000
DTSTAMP:20260422T074814
CREATED:20260118T123235Z
LAST-MODIFIED:20260404T143406Z
UID:33657-1790017200-1790020800@area23aa.org
SUMMARY:Area Committee Chairs/Area Chair Virtual Meeting
DESCRIPTION:Area Committee Chairs/Area Chair Virtual Meeting\nMeets monthly \nJoin Zoom Meeting \nZoom Link\nMeeting ID: 518 235 9057\nPasscode: area23 \nHosted by: Area Chair – Alan Griffin
URL:https://area23aa.org/event/area-committee-chairs-area-chair-virtual-meeting-9
CATEGORIES:DCMs or Committee Chairs Virtual Meeting
END:VEVENT
END:VCALENDAR